BEGIN:VCALENDAR
VERSION:2.0
PRODID:-//Squarespace Inc/Squarespace 6//v6//EN
BEGIN:VEVENT
UID:5c52c5794fa51a04f5dc6da0@squarespace.com
DTSTAMP:20190131T095544Z
DTSTART:20190215T003000Z
DTEND:20190329T010000Z
SUMMARY:Prenatal yoga course
GEO:-38.283217;145.007605
LOCATION:Avocado Baby\, 61 Panorama Drive\, MOUNT MARTHA\, Australia
END:VEVENT
END:VCALENDAR
